BEGIN:VCALENDAR
VERSION:2.0
PRODID:-//eventon.com NONSGML v1.0//EN
CALSCALE:GREGORIAN
METHOD:PUBLISH
BEGIN:VEVENT
UID:69ea36283e72f
DTSTAMP:20260423T150928Z
DTSTART:20190331
DTEND:20190401
LOCATION:
SUMMARY:LIFE GROUP MEETING
DESCRIPTION:Life Group meeting will be conducted every last Sunday of the m
 onth.\nhttps://schafferroad.org/events/life-group-meeting/
URL:https://schafferroad.org/events/life-group-meeting/
END:VEVENT
END:VCALENDAR